BEGIN:VCALENDAR
VERSION:2.0
PRODID:-//Mount Kenya University
CALSCALE:GREGORIAN
METHOD:PUBLISH
X-WR-CALNAME:Mount Kenya University
X-ORIGINAL-URL:http://mku.ac.ke/event/webinar-point-of-care-diagnostics-for-resource-poor-settings-dare-to-try/
X-WR-CALDESC:Webinar: Point-of-care diagnostics for resource-poor settings – Dare to try
BEGIN:VEVENT
DTSTART:20220608T140000
DTEND:20220608T150000
SUMMARY:Webinar: Point-of-care diagnostics for resource-poor settings – Dare to try
DESCRIPTION:Welcome to a joint webinar moderated by Mount Kenya University don on point-of-care diagnostics for limited settings. The partners include AfyaDX Network, MKU, Stockholm University and Formas
LOCATION:
END:VEVENT
END:VCALENDAR
