BEGIN:VCALENDAR
VERSION:2.0
PRODID:-//Mount Kenya University
CALSCALE:GREGORIAN
METHOD:PUBLISH
X-WR-CALNAME:Mount Kenya University
X-ORIGINAL-URL:http://mku.ac.ke/event/8iiiuc-conference/
X-WR-CALDESC:8IIIUC Conference
BEGIN:VEVENT
DTSTART:20230329T000000
DTEND:20230331T000000
SUMMARY:8IIIUC Conference
DESCRIPTION:
LOCATION:
END:VEVENT
END:VCALENDAR
