BEGIN:VCALENDAR
VERSION:2.0
PRODID:-//Mount Kenya University
CALSCALE:GREGORIAN
METHOD:PUBLISH
X-WR-CALNAME:Mount Kenya University
X-ORIGINAL-URL:http://mku.ac.ke/event/access-tot-workshop/
X-WR-CALDESC:ACCESS TOT Workshop
BEGIN:VEVENT
DTSTART:20240123T000000
DTEND:20240124T000000
SUMMARY:ACCESS TOT Workshop
DESCRIPTION:
LOCATION:
END:VEVENT
END:VCALENDAR
