BEGIN:VCALENDAR
VERSION:2.0
PRODID:-//Mount Kenya University
CALSCALE:GREGORIAN
METHOD:PUBLISH
X-WR-CALNAME:Mount Kenya University
X-ORIGINAL-URL:http://mku.ac.ke/event/9th-international-interdisciplinary-conference-9iic-2024/
X-WR-CALDESC:9th International Interdisciplinary Conference (9IIC-2024)
BEGIN:VEVENT
DTSTART:
DTEND:
SUMMARY:9th International Interdisciplinary Conference (9IIC-2024)
DESCRIPTION:
LOCATION:
END:VEVENT
END:VCALENDAR
